BEGIN:VCALENDAR
VERSION:2.0
PRODID:-//WSV Nulde - ECPv6.15.14//NONSGML v1.0//EN
CALSCALE:GREGORIAN
METHOD:PUBLISH
X-WR-CALNAME:WSV Nulde
X-ORIGINAL-URL:https://www.wsvnulde.nl
X-WR-CALDESC:Evenementen voor WSV Nulde
REFRESH-INTERVAL;VALUE=DURATION:PT1H
X-Robots-Tag:noindex
X-PUBLISHED-TTL:PT1H
BEGIN:VTIMEZONE
TZID:Europe/Amsterdam
BEGIN:DAYLIGHT
TZOFFSETFROM:+0100
TZOFFSETTO:+0200
TZNAME:CEST
DTSTART:20250330T010000
END:DAYLIGHT
BEGIN:STANDARD
TZOFFSETFROM:+0200
TZOFFSETTO:+0100
TZNAME:CET
DTSTART:20251026T010000
END:STANDARD
BEGIN:DAYLIGHT
TZOFFSETFROM:+0100
TZOFFSETTO:+0200
TZNAME:CEST
DTSTART:20260329T010000
END:DAYLIGHT
BEGIN:STANDARD
TZOFFSETFROM:+0200
TZOFFSETTO:+0100
TZNAME:CET
DTSTART:20261025T010000
END:STANDARD
BEGIN:DAYLIGHT
TZOFFSETFROM:+0100
TZOFFSETTO:+0200
TZNAME:CEST
DTSTART:20270328T010000
END:DAYLIGHT
BEGIN:STANDARD
TZOFFSETFROM:+0200
TZOFFSETTO:+0100
TZNAME:CET
DTSTART:20271031T010000
END:STANDARD
END:VTIMEZONE
BEGIN:VEVENT
DTSTART;TZID=Europe/Amsterdam:20260418T080000
DTEND;TZID=Europe/Amsterdam:20260418T170000
DTSTAMP:20260426T045807
CREATED:20260310T092408Z
LAST-MODIFIED:20260310T092408Z
UID:2540-1776499200-1776531600@www.wsvnulde.nl
SUMMARY:Kraandag
DESCRIPTION:Let op! Tijdens deze dag is de parkeerplaats van de haven afgesloten.
URL:https://www.wsvnulde.nl/agenda/kraandag-5/
CATEGORIES:Kraandagen
END:VEVENT
END:VCALENDAR