BEGIN:VCALENDAR
VERSION:2.0
PRODID:-//WSV Nulde - ECPv6.15.14//NONSGML v1.0//EN
CALSCALE:GREGORIAN
METHOD:PUBLISH
X-ORIGINAL-URL:https://www.wsvnulde.nl
X-WR-CALDESC:Evenementen voor WSV Nulde
REFRESH-INTERVAL;VALUE=DURATION:PT1H
X-Robots-Tag:noindex
X-PUBLISHED-TTL:PT1H
BEGIN:VTIMEZONE
TZID:Europe/Amsterdam
BEGIN:DAYLIGHT
TZOFFSETFROM:+0100
TZOFFSETTO:+0200
TZNAME:CEST
DTSTART:20250330T010000
END:DAYLIGHT
BEGIN:STANDARD
TZOFFSETFROM:+0200
TZOFFSETTO:+0100
TZNAME:CET
DTSTART:20251026T010000
END:STANDARD
BEGIN:DAYLIGHT
TZOFFSETFROM:+0100
TZOFFSETTO:+0200
TZNAME:CEST
DTSTART:20260329T010000
END:DAYLIGHT
BEGIN:STANDARD
TZOFFSETFROM:+0200
TZOFFSETTO:+0100
TZNAME:CET
DTSTART:20261025T010000
END:STANDARD
BEGIN:DAYLIGHT
TZOFFSETFROM:+0100
TZOFFSETTO:+0200
TZNAME:CEST
DTSTART:20270328T010000
END:DAYLIGHT
BEGIN:STANDARD
TZOFFSETFROM:+0200
TZOFFSETTO:+0100
TZNAME:CET
DTSTART:20271031T010000
END:STANDARD
END:VTIMEZONE
BEGIN:VEVENT
DTSTART;VALUE=DATE:20260401
DTEND;VALUE=DATE:20260402
DTSTAMP:20260425T194126
CREATED:20260310T092824Z
LAST-MODIFIED:20260310T092824Z
UID:2548-1775001600-1775087999@www.wsvnulde.nl
SUMMARY:Opening Kajuit
DESCRIPTION:
URL:https://www.wsvnulde.nl/agenda/opening-kajuit/
CATEGORIES:Evenement
END:VEVENT
BEGIN:VEVENT
DTSTART;TZID=Europe/Amsterdam:20260328T080000
DTEND;TZID=Europe/Amsterdam:20260328T170000
DTSTAMP:20260425T194126
CREATED:20260310T092545Z
LAST-MODIFIED:20260310T092545Z
UID:2542-1774684800-1774717200@www.wsvnulde.nl
SUMMARY:Doe dag
DESCRIPTION:
URL:https://www.wsvnulde.nl/agenda/doedag/
CATEGORIES:Evenement
END:VEVENT
END:VCALENDAR