BEGIN:VCALENDAR
VERSION:2.0
PRODID:-//WSV Nulde - ECPv6.15.14//NONSGML v1.0//EN
CALSCALE:GREGORIAN
METHOD:PUBLISH
X-ORIGINAL-URL:https://www.wsvnulde.nl
X-WR-CALDESC:Evenementen voor WSV Nulde
REFRESH-INTERVAL;VALUE=DURATION:PT1H
X-Robots-Tag:noindex
X-PUBLISHED-TTL:PT1H
BEGIN:VTIMEZONE
TZID:Europe/Amsterdam
BEGIN:DAYLIGHT
TZOFFSETFROM:+0100
TZOFFSETTO:+0200
TZNAME:CEST
DTSTART:20250330T010000
END:DAYLIGHT
BEGIN:STANDARD
TZOFFSETFROM:+0200
TZOFFSETTO:+0100
TZNAME:CET
DTSTART:20251026T010000
END:STANDARD
BEGIN:DAYLIGHT
TZOFFSETFROM:+0100
TZOFFSETTO:+0200
TZNAME:CEST
DTSTART:20260329T010000
END:DAYLIGHT
BEGIN:STANDARD
TZOFFSETFROM:+0200
TZOFFSETTO:+0100
TZNAME:CET
DTSTART:20261025T010000
END:STANDARD
BEGIN:DAYLIGHT
TZOFFSETFROM:+0100
TZOFFSETTO:+0200
TZNAME:CEST
DTSTART:20270328T010000
END:DAYLIGHT
BEGIN:STANDARD
TZOFFSETFROM:+0200
TZOFFSETTO:+0100
TZNAME:CET
DTSTART:20271031T010000
END:STANDARD
END:VTIMEZONE
BEGIN:VEVENT
DTSTART;TZID=Europe/Amsterdam:20260512T193000
DTEND;TZID=Europe/Amsterdam:20260512T220000
DTSTAMP:20260425T162726
CREATED:20260310T091326Z
LAST-MODIFIED:20260310T091326Z
UID:2517-1778614200-1778623200@www.wsvnulde.nl
SUMMARY:Bestuursvergadering
DESCRIPTION:
URL:https://www.wsvnulde.nl/agenda/bestuursvergadering-2/
CATEGORIES:Bestuursvergadering
END:VEVENT
BEGIN:VEVENT
DTSTART;TZID=Europe/Amsterdam:20260530T080000
DTEND;TZID=Europe/Amsterdam:20260530T170000
DTSTAMP:20260425T162726
CREATED:20260310T092854Z
LAST-MODIFIED:20260413T185936Z
UID:2550-1780128000-1780160400@www.wsvnulde.nl
SUMMARY:Opening vaarseizoen
DESCRIPTION:
URL:https://www.wsvnulde.nl/agenda/opening-vaarseizoen/
CATEGORIES:Evenement
END:VEVENT
BEGIN:VEVENT
DTSTART;TZID=Europe/Amsterdam:20260609T193000
DTEND;TZID=Europe/Amsterdam:20260609T220000
DTSTAMP:20260425T162726
CREATED:20260310T091432Z
LAST-MODIFIED:20260310T091432Z
UID:2519-1781033400-1781042400@www.wsvnulde.nl
SUMMARY:Bestuursvergadering
DESCRIPTION:
URL:https://www.wsvnulde.nl/agenda/bestuursvergadering-3/
CATEGORIES:Bestuursvergadering
END:VEVENT
BEGIN:VEVENT
DTSTART;TZID=Europe/Amsterdam:20260714T193000
DTEND;TZID=Europe/Amsterdam:20260714T220000
DTSTAMP:20260425T162726
CREATED:20260310T091700Z
LAST-MODIFIED:20260310T091700Z
UID:2522-1784057400-1784066400@www.wsvnulde.nl
SUMMARY:Bestuursvergadering
DESCRIPTION:
URL:https://www.wsvnulde.nl/agenda/bestuursvergadering-4/
CATEGORIES:Bestuursvergadering
END:VEVENT
BEGIN:VEVENT
DTSTART;TZID=Europe/Amsterdam:20260908T193000
DTEND;TZID=Europe/Amsterdam:20260908T220000
DTSTAMP:20260425T162726
CREATED:20260310T091746Z
LAST-MODIFIED:20260310T091746Z
UID:2524-1788895800-1788904800@www.wsvnulde.nl
SUMMARY:Bestuursvergadering
DESCRIPTION:
URL:https://www.wsvnulde.nl/agenda/bestuursvergadering-5/
CATEGORIES:Bestuursvergadering
END:VEVENT
BEGIN:VEVENT
DTSTART;TZID=Europe/Amsterdam:20260926T080000
DTEND;TZID=Europe/Amsterdam:20260926T170000
DTSTAMP:20260425T162726
CREATED:20260310T092614Z
LAST-MODIFIED:20260310T092614Z
UID:2544-1790409600-1790442000@www.wsvnulde.nl
SUMMARY:Doe dag
DESCRIPTION:
URL:https://www.wsvnulde.nl/agenda/doe-dag/
CATEGORIES:Evenement
END:VEVENT
BEGIN:VEVENT
DTSTART;TZID=Europe/Amsterdam:20261013T193000
DTEND;TZID=Europe/Amsterdam:20261013T220000
DTSTAMP:20260425T162726
CREATED:20260310T091824Z
LAST-MODIFIED:20260310T091824Z
UID:2526-1791919800-1791928800@www.wsvnulde.nl
SUMMARY:Bestuursvergadering
DESCRIPTION:
URL:https://www.wsvnulde.nl/agenda/bestuursvergadering-6/
CATEGORIES:Bestuursvergadering
END:VEVENT
BEGIN:VEVENT
DTSTART;TZID=Europe/Amsterdam:20261030T200000
DTEND;TZID=Europe/Amsterdam:20261030T220000
DTSTAMP:20260425T162726
CREATED:20260310T092756Z
LAST-MODIFIED:20260310T092756Z
UID:2546-1793390400-1793397600@www.wsvnulde.nl
SUMMARY:Algemene ledenvergadering
DESCRIPTION:
URL:https://www.wsvnulde.nl/agenda/algemene-ledenvergadering/
CATEGORIES:Evenement
END:VEVENT
BEGIN:VEVENT
DTSTART;TZID=Europe/Amsterdam:20261110T193000
DTEND;TZID=Europe/Amsterdam:20261110T220000
DTSTAMP:20260425T162726
CREATED:20260310T091908Z
LAST-MODIFIED:20260310T091908Z
UID:2528-1794339000-1794348000@www.wsvnulde.nl
SUMMARY:Bestuursvergadering
DESCRIPTION:
URL:https://www.wsvnulde.nl/agenda/bestuursvergadering-7/
CATEGORIES:Bestuursvergadering
END:VEVENT
BEGIN:VEVENT
DTSTART;TZID=Europe/Amsterdam:20261208T193000
DTEND;TZID=Europe/Amsterdam:20261208T220000
DTSTAMP:20260425T162726
CREATED:20260310T091941Z
LAST-MODIFIED:20260310T092047Z
UID:2530-1796758200-1796767200@www.wsvnulde.nl
SUMMARY:Bestuursvergadering
DESCRIPTION:
URL:https://www.wsvnulde.nl/agenda/bestuursvergadering-8/
CATEGORIES:Bestuursvergadering
END:VEVENT
END:VCALENDAR